BEGIN:VCALENDAR
VERSION:2.0
PRODID:-//Clube de Regatas Vasco da Gama - ECPv6.15.18//NONSGML v1.0//EN
CALSCALE:GREGORIAN
METHOD:PUBLISH
X-ORIGINAL-URL:https://clubevascodagama.com.br
X-WR-CALDESC:Eventos para Clube de Regatas Vasco da Gama
REFRESH-INTERVAL;VALUE=DURATION:PT1H
X-Robots-Tag:noindex
X-PUBLISHED-TTL:PT1H
BEGIN:VTIMEZONE
TZID:UTC
BEGIN:STANDARD
TZOFFSETFROM:+0000
TZOFFSETTO:+0000
TZNAME:UTC
DTSTART:20250101T000000
END:STANDARD
END:VTIMEZONE
BEGIN:VEVENT
DTSTART;TZID=UTC:20260424T190000
DTEND;TZID=UTC:20260424T230000
DTSTAMP:20260425T203147
CREATED:20260416T141102Z
LAST-MODIFIED:20260416T141102Z
UID:1314-1777057200-1777071600@clubevascodagama.com.br
SUMMARY:Mirante do Vasco com a Banda O Poço
DESCRIPTION:Sexta-feira\, dia 24 de abril\, o Mirante do Vasco vai ferver! 🎶🔥 \nA partir das 19h\, a banda O Poço sobe ao palco com muita música boa pra você curtir aquela noite diferente com a galera! ✨ \n🔸 Sócios têm acesso livre (retirada na secretaria)\n🔸 Convites e mesas limitados \n📍 Clube de Regatas Vasco da Gama \nChama os amigos e vem viver essa noite com a gente! 🎶🚀
URL:https://clubevascodagama.com.br/eventos/mirante-do-vasco-com-a-banda-o-poco/
ATTACH;FMTTYPE=image/jpeg:https://clubevascodagama.com.br/wp-content/uploads/2026/04/MIRANTE-DO-VASCO-24-DE-ABRIL.jpg
END:VEVENT
BEGIN:VEVENT
DTSTART;TZID=UTC:20260510T120000
DTEND;TZID=UTC:20260510T160000
DTSTAMP:20260425T203147
CREATED:20260416T140738Z
LAST-MODIFIED:20260416T141930Z
UID:1309-1778414400-1778428800@clubevascodagama.com.br
SUMMARY:Almoço de Dia das Mães 2026
DESCRIPTION:Celebre o Dia das Mães com um momento especial em família ❤️ \nO Clube de Regatas Vasco da Gama preparou um almoço completo\, pensado para proporcionar conforto\, boa gastronomia e uma experiência agradável para todos. \n🗓️ 10 de maio\n⏰ Das 12h às 16h\n🎶 Música ao vivo com a banda Homens de Preto\n🍽️ Cardápio variado\, com opções de carnes\, acompanhamentos e sobremesa\n🎈 Espaço com brinquedos para as crianças garantirem a diversão durante o evento \n💰 Sócio: R$ 90\,00\n💰 Não sócio: R$ 110\,00\n👶 Kids (7 a 12 anos): R$ 45\,00 \n📍 Av. Rei Pelé\, 33 – Ponta da Praia\, Santos\n🎟️ Convites disponíveis na secretaria do clube \nGaranta sua presença e proporcione um Dia das Mães memorável para quem sempre cuidou de você. \n📲 Informações: (13) 99740-7994
URL:https://clubevascodagama.com.br/eventos/almoco-de-dia-das-maes-2026/
ATTACH;FMTTYPE=image/jpeg:https://clubevascodagama.com.br/wp-content/uploads/2026/04/DIA-DAS-MAES.jpg
END:VEVENT
END:VCALENDAR